Workbook

Sheet CUSTO UNITÁRIO DAS LOJAS LOCAIS
A2: COTAÇÃO DE CUSTO UNITÁRIO DAS LOJAS DE MATERIAL DE CONSTRUÇÃO LOCAL
A5: PERFURAÇÃO DE 80 METROS LINEARES EM POÇO ARTESIANO COM DIÂMETRO DE 6"
A6: Item | B6: Descrição | C6: Unid. | D6: Quant. | E6: CASA DOS TUBOS & CONEXÕES CNPJ: 21.051.929/0001-10 | F6: FEIRÃO DA CONSTRUÇÃO CNPJ: 111.111.111-11 | G6: E.M.CORREIA DE AGUIAR EIRELI CNPJ: 33.662.337/0001-13 | H6: Valor Unitário da Média Proporcional sem BDI | I6: CÓDIGO DE REFERÊNCIA
E7: Código | F7: Código | G7: Código
E8: Valor Unitário sem BDI | F8: Valor Unitário sem BDI | G8: Valor Unitário sem BDI
A9: 1 | B9: TUBO GEO. 150x4mt, Ø6" LUPERPLAS. | C9: UND | D9: 1 | E9: 805 | F9: 805 | G9: 805 | H9: =(E10+F10+G10)/3 -> 389.33333 | I9: *COTAÇÃO LOCAL | K9: =H9 -> 389.33333
E10: 378 | F10: 390 | G10: 400
A11: 3 | B11: TUBO ROSCAVEL 1.1/2 LUPERPLAS | C11: UND | D11: 1 | E11: 1761 | F11: 1761 | G11: 1761 | H11: =(E12+F12+G12)/3 -> 91 | I11: *COTAÇÃO LOCAL | K11: =H11 -> 91
E12: 88 | F12: 90 | G12: 95
A13: 5 | B13: CORDA BRANCA TRANÇADA 12MM | C13: METRO | D13: 1 | E13: 1998 | F13: 1998 | G13: 1998 | H13: =(E14+F14+G14)/3 -> 3.8333333 | I13: *COTAÇÃO LOCAL | K13: =H13 -> 3.8333333
E14: 3.5 | F14: 4 | G14: 4
A15: 6 | B15: FITA VEDA ROSCA 18X50mts | C15: UNID | D15: 1 | E15: 9595 | F15: 9595 | G15: 9595 | H15: =(E16+F16+G16)/3 -> 8.3333333 | I15: *COTAÇÃO LOCAL | K15: =H15 -> 8.3333333
E16: 8 | F16: 8.5 | G16: 8.5
A17: 7 | B17: FITA AUTO FUSÃO 10M | C17: UNID | D17: 1 | E17: 1104 | F17: 1104 | G17: 1104 | H17: =(E18+F18+G18)/3 -> 38.333333 | I17: *COTAÇÃO LOCAL | K17: =H17 -> 38.333333
E18: 35 | F18: 40 | G18: 40
A19: 8 | B19: MOTOBOMBA LEÃO 5CV 4R8PB-18 350/38 | C19: UNID | D19: 1 | E19: 899 | F19: 899 | G19: 899 | H19: =(E20+F20+G20)/3 -> 6433.3333 | I19: *COTAÇÃO LOCAL | K19: =H19 -> 6433.3333
E20: 6350 | F20: 6500 | G20: 6450
A21: 9 | B21: FILTRO GEO STANDER 150X4MT - LUPERI | C21: UNID | D21: 1 | E21: 8159 | F21: 8159 | G21: 8159 | H21: =(E22+F22+G22)/3 -> 605.33333 | I21: *COTAÇÃO LOCAL | K21: =H21 -> 605.33333
E22: 600 | F22: 608 | G22: 608
A23: 10 | B23: Barra de Parafuso Ø 3/8'de Fonecimento e Execução. | C23: UNID | D23: 1 | E23: 1984 | F23: 1984 | G23: 1984 | H23: =(E24+F24+G24)/3 -> 8.3333333 | I23: *COTAÇÃO LOCAL | K23: =H23 -> 8.3333333
E24: 8 | F24: 9 | G24: 8
A25: 11 | B25: Porca Sextavada Ø 3/8' Fonecimento e Execução. | C25: UNID | D25: 1 | E25: 2032 | F25: 2032 | G25: 2032 | H25: =(E26+F26+G26)/3 -> 0.44666667 | I25: *COTAÇÃO LOCAL | K25: =H25 -> 0.44666667
E26: 0.35 | F26: 0.44 | G26: 0.55
A27: 12 | B27: Arruela Ø 3/8' Fonecimento e Execução. | C27: UND | D27: 1 | E27: 0.35 | F27: 0.44 | G27: 0.55 | H27: =(E28+F28+G28)/3 -> 0.43333333 | I27: *COTAÇÃO LOCAL | K27: =H27 -> 0.43333333
E28: 0.25 | F28: 0.55 | G28: 0.5
A29: CONSTRUÇÃO DA ESTRUTURA DE SUSTENTAÇÃO DO RESERVATÓRIO ELEVADO
A30: Item | B30: Descrição | C30: Unid. | D30: Quant. | E30: ESTANCIA TAPAJÓS CNPJ: 10.663.900/0001-72 | F30: ITAITUBA MADEIRAS CNPJ: 09.319.572/0001-02 | G30: MADEIREIRA FLORESTA CNPJ: 02.642.097/0001-61 | H30: Valor Unitário da Média Proporcional sem Mão de Obra e sem BDI | I30: Valor Unitário da Média Proporcional, incluindo 35% da Mão de Obra e sem BDI | J30: CÓDIGO DE REFERÊNCIA
E31: Código | F31: Código | G31: Código
E32: Valor Unitário sem BDI | F32: Valor Unitário sem BDI | G32: Valor Unitário sem BDI
A33: 1 | B33: Esteio em Madeira -> (0,25m x 0,25m x 7,00m) - Fonecimento e Execução. | C33: UNID | D33: 1 | E33: - | F33: - | G33: - | H33: =(E34+F34+G34)/3 -> 714.58333 | I33: =H33*1.35 -> 964.6875 | J33: *COTAÇÃO LOCAL | K33: =I33 -> 964.6875
E34: 700 | F34: 525 | G34: 918.75
A35: 2 | B35: Peça em Madeira -> (0,10m x 0,20m x 6,00m) - Fonecimento e Execução. | C35: UNID | D35: 1 | E35: - | F35: - | G35: - | H35: =(E36+F36+G36)/3 -> 188 | I35: =H35*1.35 -> 253.8 | J35: *COTAÇÃO LOCAL | K35: =I35 -> 253.8
E36: 192 | F36: 120 | G36: 252
A37: 3 | B37: Peça em Madeira -> (0,10m x 0,20m x 4,50m) - Fonecimento e Execução. | C37: UNID | D37: 1 | E37: - | F37: - | G37: - | H37: =(E38+F38+G38)/3 -> 151 | I37: =H37*1.35 -> 203.85 | J37: *COTAÇÃO LOCAL | K37: =I37 -> 203.85
E38: 156 | F38: 108 | G38: 189
A39: 4 | B39: Peça em Madeira -> (0,075m x 0,15m x 4,00m) - Fonecimento e Execução. | C39: UNID | D39: 1 | E39: - | F39: - | G39: - | H39: =(E40+F40+G40)/3 -> 61.833333 | I39: =H39*1.35 -> 83.475 | J39: *COTAÇÃO LOCAL | K39: =I39 -> 83.475
E40: 55 | F40: 54 | G40: 76.5
A41: 5 | B41: Peça em Madeira -> (0,06m x 0,12m x 4,50m) - Fonecimento e Execução. | C41: UNID | D41: 1 | E41: - | F41: - | G41: - | H41: =(E42+F42+G42)/3 -> 46.32 | I41: =H41*1.35 -> 62.532 | J41: *COTAÇÃO LOCAL | K41: =I41 -> 62.532
E42: 45 | F42: 38.88 | G42: 55.08
A43: 6 | B43: Pernamanca -> (0,075m x 0,05m x 5,00m) - Fonecimento e Execução. | C43: UNID | D43: 1 | E43: - | F43: - | G43: - | H43: =(E44+F44+G44)/3 -> 24.083333 | I43: =H43*1.35 -> 32.5125 | J43: *COTAÇÃO LOCAL | K43: =I43 -> 32.5125
...

Sheet POÇO ARTESIANO; RESERVATÓRIO 
A6: OBRA: ORÇAMENTO SINTÉTICO DE MATERIAL E MÃO DE OBRA PARA A PERFURAÇÃO DE 80 METROS LINEARES EM SOLO E ROCHAS SEDIMENTARES; TENDO COMO INCLUSÃO NESTA PLANILHA ORÇAMENTÁRIA A ÁREA DE PROTEÇÃO; RESERVATÓRIO ELEVADO E DISTRIBUIÇÃO LOCAL DE ÁGUA FRIA COM 05 (CINCO) TORNEIRAS PARA ATENDER AO PÚBLICO DAS PROXIMIDADES, QUE SERÁ IMPLANTADO NA COMUNIDADE AMAZONAS, LOCALIZADOS NO MUNICÍPIO DE ITAITUBA, ESTADO DO PARÁ.
A7: EMPRESA: | E7: CONCORRÊNCIA: | H7: CONTRATO:
A8: PROPRIETÁRIO: PREFEITURA MUNICIPAL DE ITAITUBA | D8: DATA DA VISTORIA: | H8: VALOR DA OBRA:
A9: LOCAL DA OBRA: | C9: COMUNIDADE AMAZONAS | H9: =F118 -> 110184.93
A10: ITEM | B10: DISCRIMINAÇÃO DOS SERVIÇOS | C10: UNID | D10: QUANT | E10: PREÇO | G10: TABELA SINAPI/PA - 08/2019 SEDOP/PA - 04/2019 | I10: B.D.I (%) | J10: CURVA DO ABC(%)
E11: UNITÁRIO COM BDI | F11: TOTAL | G11: Ref.Código | H11: UNITÁRIO SEM BDI | I11: 0.29
A12: 1.0 | B12: PERFURAÇÃO DO POÇO - 80 m | C12: TOTAL PARCIAL | F12: =SUM(F13,F18,F20,F22,F24,F38,F41) -> 68844.574
A13: 1.1 | B13: SERVIÇOS PRELIMINARES: | F13: =SUM(F14:F17) -> 7127.7263 | J13: =F13/F118% -> 6.468876
A14: 1.1.1 | B14: MOBILIZACAO E INSTALACAO DE 01 EQUIPAMENTO DE SONDAGEM, DISTANCIA DE 10KM ATE 20KM. | C14: und. | D14: 1 | E14: =H14*I14 -> 587.8272 | F14: =E14*D14 -> 587.8272 | G14: SINAPI 72872 | H14: ='CUSTO UNITÁRIO'!G15 -> 455.68 | I14: 1.29 | J14: =F16/F118% -> 0.89014411
A15: 1.1.2 | B15: LOCACAO CONVENCIONAL DE OBRA, UTILIZANDO GABARITO DE TÁBUAS CORRIDAS PONTALETADAS A CADA 2,00M - 2 UTILIZAÇÕES. | C15: m | D15: 120 | E15: =H15*I15 -> 44.924331 | F15: =E15*D15 -> 5390.9198 | G15: SINAPI 99059 | H15: ='CUSTO UNITÁRIO'!G29 -> 34.825063 | I15: 1.29 | J15: =F15/F118% -> 4.8926109
A16: 1.1.3 | B16: Placa da obra em chapa galvanizada. 2,00x1,20m. | C16: m² | D16: 2 | E16: =H16*I16 -> 490.40232 | F16: =E16*D16 -> 980.80465 | G16: SEDOP 010004 | H16: ='CUSTO UNITÁRIO'!G42 -> 380.15684 | I16: 1.29 | J16: =F14/F118% -> 0.53349148
A17: 1.1.4 | B17: LIMPEZA MANUAL DO TERRENO (C/ RASPAGEM SUPERFICIAL) | C17: m² | D17: 120 | E17: =H17*I17 -> 1.401456 | F17: =E17*D17 -> 168.17472 | G17: SINAPI 73859/2 | H17: ='CUSTO UNITÁRIO'!G46 -> 1.0864 | I17: 1.29 | J17: =F15/F118% -> 4.8926109
A18: 1.2 | B18: PERFURAÇÃO EM SOLO E ROCHAS SEDIMENTARES | F18: =SUM(F19) -> 4176.2563 | J18: =F18/F118% -> 3.7902247
A19: 1.2.1 | B19: Perfuração de poço com perfuratriz (com diâmetro DN 10 ") | C19: m | D19: 80 | E19: =H19*I19 -> 52.203204 | F19: =E19*D19 -> 4176.2563 | G19: SINAPI 74163/001 | H19: ='CUSTO UNITÁRIO'!G54 -> 40.4676 | I19: 1.29 | J19: =F19/F118% -> 3.7902247
A20: 1.3 | B20: PERFURAÇÃO EM ROCHA: | F20: =SUM(F21) -> 5918.9844 | J20: =F20/F118% -> 5.3718639
A21: 1.3.1 | B21: Perfuração de poço com perfuratriz à percussão (com diâmetro DN 8") | C21: m | D21: 70 | E21: =H21*I21 -> 84.55692 | F21: =E21*D21 -> 5918.9844 | G21: SINAPI 74163/002 | H21: ='CUSTO UNITÁRIO'!G60 -> 65.548 | I21: 1.29 | J21: =F21/F118% -> 5.3718639
A22: 1.4 | B22: ALARGAMENTO DO FURO: | F22: =SUM(F23) -> 3132.1922 | J22: =F22/F118% -> 2.8426685
A23: 1.4.1 | B23: Perfuração de poço com perfuratriz à percussão (com diâmetro DN10") | C23: m | D23: 60 | E23: =H23*I23 -> 52.203204 | F23: =E23*D23 -> 3132.1922 | G23: SINAPI 74163/002 | H23: ='CUSTO UNITÁRIO'!G68 -> 40.4676 | I23: 1.29 | J23: =F23/F118% -> 2.8426685
A24: 1.5 | B24: FORNECIMENTO E INSTALAÇÃO TUBO DE RECALQUE | F24: =SUM(F25:F37) -> 42088.972 | J24: =F24/F118% -> 38.198484
A25: 1.5.1 | B25: TUBO GEO. 150x4mt, Ø6". | C25: m | D25: 48 | E25: =H25*I25 -> 502.24 | F25: =E25*D25 -> 24107.52 | G25: *COTAÇÃO LOCAL | H25: ='CUSTO UNITÁRIO DAS LOJAS LOCAIS'!K9 -> 389.33333 | I25: 1.29 | J25: =F25/F118% -> 21.879145
A26: 1.5.2 | B26: MOTOBOMBA LEÃO 5CV 4R8PB-18 350/38 | C26: und. | D26: 1 | E26: =H26*I26 -> 8299 | F26: =E26*D26 -> 8299 | G26: *COTAÇÃO LOCAL | H26: ='CUSTO UNITÁRIO DAS LOJAS LOCAIS'!K19 -> 6433.3333 | I26: 1.29 | J26: =F26/F118% -> 7.5318831
A27: 1.5.3 | B27: TUBO ROSCAVEL 1.1/2. | C27: m | D27: 72 | E27: =H27*I27 -> 117.39 | F27: =E27*D27 -> 8452.08 | G27: *COTAÇÃO LOCAL | H27: ='CUSTO UNITÁRIO DAS LOJAS LOCAIS'!K11 -> 91 | I27: 1.29 | J27: =F27/F118% -> 7.6708132
A28: 1.5.4 | B28: CORDA BRANCA TRANÇADA 12MM | C28: m | D28: 90 | E28: =H28*I28 -> 4.945 | F28: =E28*D28 -> 445.05 | G28: *COTAÇÃO LOCAL | H28: ='CUSTO UNITÁRIO DAS LOJAS LOCAIS'!K13 -> 3.8333333 | I28: 1.29 | J28: =F28/F118% -> 0.40391187
A29: 1.5.5 | B29: FITA AUTO FUSÃO 10M | C29: und. | D29: 1 | E29: =H29*I29 -> 49.45 | F29: =E29*D29 -> 49.45 | G29: *COTAÇÃO LOCAL | H29: ='CUSTO UNITÁRIO DAS LOJAS LOCAIS'!K17 -> 38.333333 | I29: 1.29 | J29: =F29/F118% -> 0.044879096
A30: 1.5.6 | B30: FITA VEDA ROSCA 18X50mts | C30: und. | D30: 4 | E30: =H30*I30 -> 10.75 | F30: =E30*D30 -> 43 | G30: *COTAÇÃO LOCAL | H30: ='CUSTO UNITÁRIO DAS LOJAS LOCAIS'!K15 -> 8.3333333 | I30: 1.29 | J30: =F30/F118% -> 0.039025301
A31: 1.5.7 | B31: Luva F°G° de 1 1/2" (IE) | C31: und. | D31: 12 | E31: =H31*I31 -> 8.38629 | F31: =E31*D31 -> 100.63548 | G31: SEDOP 171044 | H31: ='CUSTO UNITÁRIO'!G75 -> 6.501 | I31: 1.29 | J31: =F31/F118% -> 0.091333254
A32: 1.5.8 | B32: UNIÃO, EM FERRO GALVANIZADO, DN 40 (1 1/2"), CONEXÃO ROSQUEADA, INSTALADO EM REDE DE ALIMENTAÇÃO - FORNECIMENTO E INSTALAÇÃO. AF_12/2015 | C32: und. | D32: 1 | E32: =H32*I32 -> 70.908836 | F32: =E32*D32 -> 70.908836 | G32: SINAPI 92894 | H32: ='CUSTO UNITÁRIO'!G83 -> 54.96809 | I32: 1.29 | J32: =F32/F118% -> 0.064354388
A33: 1.5.9 | B33: Curva 90° F°G° 1 1/2" (IE) | C33: und. | D33: 1 | E33: =H33*I33 -> 78.11466 | F33: =E33*D33 -> 78.11466 | G33: SEDOP 171263 | H33: ='CUSTO UNITÁRIO'!G90 -> 60.554 | I33: 1.29 | J33: =F33/F118% -> 0.070894143
A34: 1.5.10 | B34: NIPLE, EM FERRO GALVANIZADO, DN 40 (1 1/2"), CONEXÃO ROSQUEADA, INSTALADO EM REDE DE ALIMENTAÇÃO PARA HIDRANTE - FORNECIMENTO E INSTALAÇÃO. AF_12/2015 | C34: und. | D34: 2 | E34: =H34*I34 -> 38.478236 | F34: =E34*D34 -> 76.956472 | G34: SINAPI 92373 | H34: ='CUSTO UNITÁRIO'!G98 -> 29.82809 | I34: 1.29 | J34: =F34/F118% -> 0.069843012
A35: 1.5.11 | B35: VÁLVULA DE RETENÇÃO HORIZONTAL Ø 40MM (1.1/2") - FORNECIMENTO E INSTALAÇÃO. | C35: und. | D35: 1 | E35: =H35*I35 -> 161.91409 | F35: =E35*D35 -> 161.91409 | G35: SINAPI 73795/011 | H35: ='CUSTO UNITÁRIO'!G105 -> 125.5148 | I35: 1.29 | J35: =F35/F118% -> 0.14694759
A36: 1.5.12 | B36: REGISTRO DE GAVETA BRUTO, LATÃO, ROSCÁVEL, 1 1/2, INSTALADO EM RESERVAÇÃO DE ÁGUA DE EDIFICAÇÃO QUE POSSUA RESERVATÓRIO DE FIBRA/ FIBROCIMENTO FORNECIMENTO E INSTALAÇÃO. AF_06/2016. | C36: und. | D36: 1 | E36: =H36*I36 -> 109.63039 | F36: =E36*D36 -> 109.63039 | G36: SINAPI 94497 | H36: ='CUSTO UNITÁRIO'!G112 -> 84.9848 | I36: 1.29 | J36: =F36/F118% -> 0.099496722
A37: 1.5.13 | B37: ASSENTAMENTO DE TAMPAO DE FERRO FUNDIDO 600 MM - Tampa para poço Artesiano com furo Central de 1 1/2" | C37: und. | D37: 1 | E37: =H37*I37 -> 94.7118 | F37: =E37*D37 -> 94.7118 | G37: SINAPI 73607 | H37: ='CUSTO UNITÁRIO'!G119 -> 73.42 | I37: 1.29 | J37: =F37/F118% -> 0.085957128
A38: 1.6 | B38: FORNECIMENTO E INSTALAÇÃO DE FILTROS: | F38: =SUM(F39:F40) -> 3559.1633 | J38: =F38/F118% -> 3.2301726
A39: 1.6.1 | B39: FILTRO GEO STANDER 150X4MT - LUPERI | C39: und. | D39: 4 | E39: =H39*I39 -> 780.88 | F39: =E39*D39 -> 3123.52 | G39: *COTAÇÃO LOCAL | H39: ='CUSTO UNITÁRIO DAS LOJAS LOCAIS'!K21 -> 605.33333 | I39: 1.29 | J39: =F39/F118% -> 2.8347979
A40: 1.6.2 | B40: FORNECIMENTO E LANCAMENTO DE BRITA N. 4" | C40: m³ | D40: 4 | E40: =H40*I40 -> 108.91083 | F40: =E40*D40 -> 435.64332 | G40: SINAPI 6514 | H40: ='CUSTO UNITÁRIO'!G124 -> 84.427 | I40: 1.29 | J40: =F40/F118% -> 0.39537469
A41: 1.7 | B41: FORNECIMENTO E INSTALAÇÃO ELÉTRICAS DA BOMBA: | F41: =SUM(F42:F47) -> 2841.28 | J41: =F41/F118% -> 2.5786467
A42: 1.7.1 | B42: POSTE ACO CONICO CONTINUO CURVO SIMPLES SEM BASE C/JANELA 9M (INSPECAO) - FORNECIMENTO E INSTALACAO. | C42: unid. | D42: 1 | E42: =H42*I42 -> 1498.9671 | F42: =E42*D42 -> 1498.9671 | G42: SINAPI 73769/001 | H42: ='CUSTO UNITÁRIO'!G129 -> 1161.99 | I42: 1.29 | J42: =F42/F118% -> 1.3604103
A43: 1.7.2 | B43: Cabo multiplex 4 x 16mm² | C43: m | D43: 90 | E43: =H43*I43 -> 10.971192 | F43: =E43*D43 -> 987.40728 | G43: SEDOP 170940 | H43: ='CUSTO UNITÁRIO'!G136 -> 8.5048 | I43: 1.29 | J43: =F43/F118% -> 0.89613643
A44: 1.7.3 | B44: DISJUNTOR BIPOLAR TIPO DIN, CORRENTE NOMINAL DE 20A - FORNECIMENTO E INSTALAÇÃO. AF_04/2016 | C44: m | D44: 2 | E44: =H44*I44 -> 52.740786 | F44: =E44*D44 -> 105.48157 | G44: SINAPI 93662 | H44: ='CUSTO UNITÁRIO'!G143 -> 40.88433 | I44: 1.29 | J44: =F44/F118% -> 0.095731397
A45: 1.7.4 | B45: Centro de distribuição p/ 06 disjuntores (s/ barramento). | C45: und. | D45: 1 | E45: =H45*I45 -> 69.8535 | F45: =E45*D45 -> 69.8535 | G45: SEDOP 170884 | H45: ='CUSTO UNITÁRIO'!G150 -> 54.15 | I45: 1.29 | J45: =F45/F118% -> 0.063396602
...

Sheet CUSTO UNITÁRIO
A7: PROPRIETÁRIO: MUNICÍPIO DE ITAITUBA | D7: TABELA SINAPI/PA - 08/2019 e SEDOP/PA - 04/2019 COM DESONERAÇÃO | G7: 43738
A8: ORÇAMENTO SINTÉTICO DE MATERIAL E MÃO DE OBRA PARA A PERFURAÇÃO DE 80 METROS LINEARES EM SOLO E ROCHAS SEDIMENTARES; TENDO COMO INCLUSÃO NESTA PLANILHA ORÇAMENTÁRIA A ÁREA DE PROTEÇÃO; RESERVATÓRIO ELEVADO E DISTRIBUIÇÃO LOCAL DE ÁGUA FRIA COM 05 (CINCO) TORNEIRAS PARA ATENDER AO PÚBLICO DAS PROXIMIDADES, QUE SERÁ IMPLANTADO NA COMUNIDADE AMAZONAS, LOCALIZADOS NO MUNICÍPIO DE ITAITUBA, ESTADO DO PARÁ.
A10: 1.1.1. 72872 - MOBILIZACAO E INSTALACAO DE 01 EQUIPAMENTO DE SONDAGEM, DISTANCIA DE 10KM ATE 20KM - UND
A11: MATERIAL | C11: FONTE | D11: UNID | E11: COEFICENTE | F11: PREÇO UNITÁRIO | G11: TOTAL
A12: 5824 | B12: CAMINHÃO TOCO, PBT 16.000 KG, CARGA ÚTIL MÁX. 10.685 KG, DIST. ENTRE EIXOS 4,8 M, POTÊNCIA 189 CV, INCLUSIVE CARROCERIA FIXA ABERTA DE MADEIRA P/ TRANSPORTE GERAL DE CARGA SECA, DIMEN. APROX. 2,5 X 7,00 X 0,50 M - CHP DIURNO. AF_06/2014 | C12: SINAPI | D12: CHP | E12: 2,0000000 | F12: 137.46 | G12: =F12*E12 -> 274.92
A13: 88316 | B13: SERVENTE COM ENCARGOS COMPLEMENTARES | C13: SINAPI | D13: H | E13: 8,0000000 | F13: 13.58 | G13: =F13*E13 -> 108.64
A14: 88322 | B14: TÉCNICO DE SONDAGEM COM ENCARGOS COMPLEMENTARES | C14: SINAPI | D14: H | E14: 4 | F14: 18.03 | G14: =F14*E14 -> 72.12
F15: TOTAL C/ ENCARGOS S/ BDI | G15: =SUM(G12:G14) -> 455.68
A16: 1.1.2. 99059 -LOCACAO CONVENCIONAL DE OBRA, UTILIZANDO GABARITO DE TÁBUAS CORRIDAS PONTALETADAS A CADA 2,00M - 2 UTILIZAÇÕES.- m
A17: MATERIAL | C17: FONTE | D17: UNID | E17: COEFICENTE | F17: PREÇO UNITÁRIO | G17: TOTAL
A18: 4417 | B18: SARRAFO DE MADEIRA NAO APARELHADA *2,5 X 7* CM, MACARANDUBA, ANGELIM OU EQUIVALENTE DA REGIAO | C18: SINAPI | D18: M | E18: 0,7445000 | F18: 4.74 | G18: =F18*E18 -> 3.52893
A19: 4433 | B19: PECA DE MADEIRA NAO APARELHADA *7,5 X 7,5* CM (3 X 3 ") MACARANDUBA, ANGELIM OU EQUIVALENTE DA REGIAO | C19: SINAPI | D19: M | E19: 0,4125000 | F19: 10.9 | G19: =F19*E19 -> 4.49625
A20: 5068 | B20: PREGO DE ACO POLIDO COM CABECA 17 X 21 (2 X 11) | C20: SINAPI | D20: KG | E20: 0,1110000 | F20: 10.68 | G20: =F20*E20 -> 1.18548
A21: 7356 | B21: TINTA ACRILICA PREMIUM, COR BRANCO FOSCO | C21: SINAPI | D21: L | E21: 0,0256000 | F21: 21 | G21: =F21*E21 -> 0.5376
A22: 10567 | B22: TABUA DE MADEIRA NAO APARELHADA *2,5 X 23* CM (1 x 9 ") PINUS, MISTA OU EQUIVALENTE DA REGIAO | C22: SINAPI | D22: M | E22: 0,5500000 | F22: 5,97 | G22: =F22*E22 -> 3.2835
A23: 88239 | B23: AJUDANTE DE CARPINTEIRO COM ENCARGOS COMPLEMENTARES | C23: SINAPI | D23: H | E23: 0,3563000 | F23: 14.39 | G23: =F23*E23 -> 5.127157
A24: 88262 | B24: CARPINTEIRO DE FORMAS COM ENCARGOS COMPLEMENTARES | C24: SINAPI | D24: H | E24: 0,7125000 | F24: 17.1 | G24: =F24*E24 -> 12.18375
A25: 91692 | B25: SERRA CIRCULAR DE BANCADA COM MOTOR ELÉTRICO POTÊNCIA DE 5HP, COM COIFA PARA DISCO 10" - CHP DIURNO. AF_08/2015 | C25: SINAPI | D25: CHP | E25: 0,0039000 | F25: 20.24 | G25: =F25*E25 -> 0.078936
A26: 91693 | B26: SERRA CIRCULAR DE BANCADA COM MOTOR ELÉTRICO POTÊNCIA DE 5HP, COM COIFA PARA DISCO 10" - CHI DIURNO. AF_08/2015 | C26: SINAPI | D26: CHI | E26: 0,0168000 | F26: 17.09 | G26: =F26*E26 -> 0.287112
A27: 94974 | B27: CONCRETO MAGRO PARA LASTRO, TRAÇO 1:4,5:4,5 (CIMENTO/ AREIA MÉDIA/ BRITA 1) - PREPARO MANUAL. AF_07/2016 | C27: SINAPI | D27: M3 | E27: 0,0046000 | F27: 376.38 | G27: =F27*E27 -> 1.731348
A28: 99062 | B28: MARCAÇÃO DE PONTOS EM GABARITO OU CAVALETE. AF_10/2018 | C28: SINAPI | D28: UN | E28: 1,5000000 | F28: 1.59 | G28: =F28*E28 -> 2.385
F29: TOTAL C/ ENCARGOS S/ BDI | G29: =SUM(G18:G28) -> 34.825063
A30: 1.1.3. 010004 -Placa da obra em chapa galvanizada. 2,00x1,20m.- m²
A31: MATERIAL | C31: FONTE | D31: UNID | E31: COEFICENTE | F31: PREÇO UNITÁRIO | G31: TOTAL
A32: O00005 | B32: CARPINTEIRO DE FORMAS COM ENCARGOS COMPLEMENTARES | C32: SEDOP | D32: H | E32: 3 | F32: 17.25 | G32: =F32*E32 -> 51.75
A33: O00001 | B33: PINTOR COM ENCARGOS COMPLEMENTARES | C33: SEDOP | D33: H | E33: 8.958 | F33: 17.29 | G33: =F33*E33 -> 154.88382
A34: O00006 | B34: SERVENTE COM ENCARGOS COMPLEMENTARES | C34: SEDOP | D34: H | E34: 6 | F34: 13.78 | G34: =F34*E34 -> 82.68
A35: D00034 | B35: Chapa de fo go no 26 (1,00x2,00m) | C35: SEDOP | D35: Gh | E35: 0.5 | F35: 55.14 | G35: =F35*E35 -> 27.57
A36: P00016 | B36: Fundo antioxido cromato de zinco | C36: SEDOP | D36: GL | E36: 0.033 | F36: 93.12 | G36: =F36*E36 -> 3.07296
A37: P00019 | B37: Tinta esmalte | C37: SEDOP | D37: GL | E37: 0.066 | F37: 95.21 | G37: =F37*E37 -> 6.28386
A38: D00019 | B38: Régua 3"x1" 4 m apar. | C38: SEDOP | D38: DZ | E38: 0.17 | F38: 183.5 | G38: =F38*E38 -> 31.195
A39: D00281 | B39: Pernamanca 3" x 2" 4 m - madeira branca | C39: SEDOP | D39: DZ | E39: 0.16 | F39: 135.27 | G39: =F39*E39 -> 21.6432
A40: D00082 | B40: Prego 2"x11 | C40: SEDOP | D40: KG | E40: 0.1 | F40: 10.78 | G40: =F40*E40 -> 1.078
F41: VALOR C/ LEI DE ENCARGOS: H: 89,42% OU M: 49,63% | G41: =SUM(G32:G40) -> 380.15684
F42: TOTAL C/ ENCARGOS S/ BDI | G42: =SUM(G41) -> 380.15684
A43: 1.1.4. 73859/2 -CAPINA E LIMPEZA MANUAL DE TERRENO - m²
A44: MATERIAL | C44: FONTE | D44: UNID | E44: COEFICENTE | F44: PREÇO UNITÁRIO | G44: TOTAL
A45: 88316 | B45: SERVENTE COM ENCARGOS COMPLEMENTARES | C45: SINAPI | D45: H | E45: 0.08 | F45: 13.58 | G45: =F45*E45 -> 1.0864
F46: TOTAL C/ ENCARGOS S/ BDI | G46: =SUM(G45) -> 1.0864
A47: 1.2.1. 74163/001 -Perfuração de poço com perfuratriz (com diâmetro DN 10 ") - m
...

Sheet CRON. FISICO POÇO E RESERVATÓRI
A6: CRONOGRAMA FÍSICO - FINACEIRO DE CUSTO | J6: CRONOGRAMA FISICO FINANCEIRO
A7: ORÇAMENTO SINTETICO DE MATERIAL DE MÃO DE OBRA PARA A PERFURAÇÃO DE 80 METROS LINEARES EM SOLO E ROCHAS SEDIMENTARES; TENDO COMO INCLUSÃO NESTA PLANILHA ORÇAMENTÁRIA A ÁREA DE PROTEÇÃO; RESERVATÓRIO ELEVADO E DISTRIBUIÇÃO LOCAL DE ÁGUA FRIA COM 05 (CINCO) TORNEIRAS PARA ATENDER AO PÚBLICO DAS PROXIMIDADES, QUE SERÁ IMPLANTADO NA COMUNIDADE AMAZONAS, LOCALIZADOS NO MUNICÍPIO DE ITAITUBA, ESTADO DO PARÁ.
J8: Data: 30/09/2.019
A9: ITEM | B9: DISCRIMINAÇÃO | C9: UNIDADE | D9: QUANTIDADE | E9: VALÔR UNITÁRIO | F9: CONTRATO p/ 03 MÊSES | G9: 30 DIAS | H9: 60 DIAS | I9: 90 DIAS | J9: TOTAL PARCIAL
A10: ='POÇO ARTESIANO; RESERVATÓRIO '!A12 -> 1.0 | B10: ='POÇO ARTESIANO; RESERVATÓRIO '!B12 -> PERFURAÇÃO DO POÇO - 80 m
A11: ='POÇO ARTESIANO; RESERVATÓRIO '!A13 -> 1.1 | B11: ='POÇO ARTESIANO; RESERVATÓRIO '!B13 -> SERVIÇOS PRELIMINARES:
A12: ='POÇO ARTESIANO; RESERVATÓRIO '!A14 -> 1.1.1 | B12: ='POÇO ARTESIANO; RESERVATÓRIO '!B14 -> MOBILIZACAO E INSTALACAO DE 01 EQUIPAMENTO DE SONDAGEM, DISTANCIA DE 10KM ATE 20KM. | C12: ='POÇO ARTESIANO; RESERVATÓRIO '!C14 -> und. | D12: ='POÇO ARTESIANO; RESERVATÓRIO '!D14 -> 1 | E12: ='POÇO ARTESIANO; RESERVATÓRIO '!E14 -> 587.8272 | F12: 1 | G12: 1 | H12: - | I12: - | J12: 1
F13: =E12*D12 -> 587.8272 | G13: =F13 -> 587.8272 | H13: - | I13: - | J13: =SUM(G13) -> 587.8272
A14: ='POÇO ARTESIANO; RESERVATÓRIO '!A15 -> 1.1.2 | B14: ='POÇO ARTESIANO; RESERVATÓRIO '!B15 -> LOCACAO CONVENCIONAL DE OBRA, UTILIZANDO GABARITO DE TÁBUAS CORRIDAS PONTALETADAS A CADA 2,00M - 2 UTILIZAÇÕES. | C14: ='POÇO ARTESIANO; RESERVATÓRIO '!C15 -> m | D14: ='POÇO ARTESIANO; RESERVATÓRIO '!D15 -> 120 | E14: ='POÇO ARTESIANO; RESERVATÓRIO '!E15 -> 44.924331 | F14: 1 | G14: 1 | H14: - | I14: - | J14: 1
F15: =E14*D14 -> 5390.9198 | G15: =F15 -> 5390.9198 | H15: - | I15: - | J15: =G15 -> 5390.9198
A16: ='POÇO ARTESIANO; RESERVATÓRIO '!A16 -> 1.1.3 | B16: ='POÇO ARTESIANO; RESERVATÓRIO '!B16 -> Placa da obra em chapa galvanizada. 2,00x1,20m. | C16: ='POÇO ARTESIANO; RESERVATÓRIO '!C16 -> m² | D16: ='POÇO ARTESIANO; RESERVATÓRIO '!D16 -> 2 | E16: ='POÇO ARTESIANO; RESERVATÓRIO '!E16 -> 490.40232 | F16: 1 | G16: 1 | H16: - | I16: - | J16: 1
F17: =E16*D16 -> 980.80465 | G17: =F17 -> 980.80465 | H17: - | I17: - | J17: =G17 -> 980.80465
A18: ='POÇO ARTESIANO; RESERVATÓRIO '!A17 -> 1.1.4 | B18: ='POÇO ARTESIANO; RESERVATÓRIO '!B17 -> LIMPEZA MANUAL DO TERRENO (C/ RASPAGEM SUPERFICIAL) | C18: ='POÇO ARTESIANO; RESERVATÓRIO '!C17 -> m² | D18: ='POÇO ARTESIANO; RESERVATÓRIO '!D17 -> 120 | E18: ='POÇO ARTESIANO; RESERVATÓRIO '!E17 -> 1.401456 | F18: 1 | G18: 1 | H18: - | I18: - | J18: 1
F19: =D18*E18 -> 168.17472 | G19: =F19 -> 168.17472 | H19: - | I19: - | J19: =SUM(G19) -> 168.17472
A20: ='POÇO ARTESIANO; RESERVATÓRIO '!A18 -> 1.2 | B20: ='POÇO ARTESIANO; RESERVATÓRIO '!B18 -> PERFURAÇÃO EM SOLO E ROCHAS SEDIMENTARES
A21: ='POÇO ARTESIANO; RESERVATÓRIO '!A19 -> 1.2.1 | B21: ='POÇO ARTESIANO; RESERVATÓRIO '!B19 -> Perfuração de poço com perfuratriz (com diâmetro DN 10 ") | C21: ='POÇO ARTESIANO; RESERVATÓRIO '!C19 -> m | D21: ='POÇO ARTESIANO; RESERVATÓRIO '!D19 -> 80 | E21: ='POÇO ARTESIANO; RESERVATÓRIO '!E19 -> 52.203204 | F21: 1 | G21: 1 | H21: - | I21: - | J21: 1
F22: =E21*D21 -> 4176.2563 | G22: =F22 -> 4176.2563 | H22: - | I22: - | J22: =SUM(G22) -> 4176.2563
A23: ='POÇO ARTESIANO; RESERVATÓRIO '!A20 -> 1.3 | B23: ='POÇO ARTESIANO; RESERVATÓRIO '!B20 -> PERFURAÇÃO EM ROCHA:
A24: ='POÇO ARTESIANO; RESERVATÓRIO '!A21 -> 1.3.1 | B24: ='POÇO ARTESIANO; RESERVATÓRIO '!B21 -> Perfuração de poço com perfuratriz à percussão (com diâmetro DN 8") | C24: ='POÇO ARTESIANO; RESERVATÓRIO '!C21 -> m | D24: ='POÇO ARTESIANO; RESERVATÓRIO '!D21 -> 70 | E24: ='POÇO ARTESIANO; RESERVATÓRIO '!E21 -> 84.55692 | F24: 1 | G24: 1 | H24: - | I24: - | J24: 1
F25: =E24*D24 -> 5918.9844 | G25: =F25 -> 5918.9844 | H25: - | I25: - | J25: =G25 -> 5918.9844
A26: ='POÇO ARTESIANO; RESERVATÓRIO '!A22 -> 1.4 | B26: ='POÇO ARTESIANO; RESERVATÓRIO '!B22 -> ALARGAMENTO DO FURO:
A27: ='POÇO ARTESIANO; RESERVATÓRIO '!A23 -> 1.4.1 | B27: ='POÇO ARTESIANO; RESERVATÓRIO '!B23 -> Perfuração de poço com perfuratriz à percussão (com diâmetro DN10") | C27: ='POÇO ARTESIANO; RESERVATÓRIO '!C23 -> m | D27: ='POÇO ARTESIANO; RESERVATÓRIO '!D23 -> 60 | E27: ='POÇO ARTESIANO; RESERVATÓRIO '!E23 -> 52.203204 | F27: 1 | G27: 1 | H27: - | I27: - | J27: 1
F28: =D27*E27 -> 3132.1922 | G28: =F28 -> 3132.1922 | H28: - | I28: - | J28: =SUM(G28) -> 3132.1922
A29: ='POÇO ARTESIANO; RESERVATÓRIO '!A24 -> 1.5 | B29: ='POÇO ARTESIANO; RESERVATÓRIO '!B24 -> FORNECIMENTO E INSTALAÇÃO TUBO DE RECALQUE
A30: ='POÇO ARTESIANO; RESERVATÓRIO '!A25 -> 1.5.1 | B30: ='POÇO ARTESIANO; RESERVATÓRIO '!B25 -> TUBO GEO. 150x4mt, Ø6". | C30: ='POÇO ARTESIANO; RESERVATÓRIO '!C25 -> m | D30: ='POÇO ARTESIANO; RESERVATÓRIO '!D25 -> 48 | E30: ='POÇO ARTESIANO; RESERVATÓRIO '!E25 -> 502.24 | F30: 1 | G30: 0.5 | H30: 0.5 | I30: - | J30: 1
F31: =E30*D30 -> 24107.52 | G31: =F31*G30 -> 12053.76 | H31: =F31*H30 -> 12053.76 | I31: - | J31: =SUM(H31,G31) -> 24107.52
A32: ='POÇO ARTESIANO; RESERVATÓRIO '!A26 -> 1.5.2 | B32: ='POÇO ARTESIANO; RESERVATÓRIO '!B26 -> MOTOBOMBA LEÃO 5CV 4R8PB-18 350/38 | C32: ='POÇO ARTESIANO; RESERVATÓRIO '!C26 -> und. | D32: ='POÇO ARTESIANO; RESERVATÓRIO '!D26 -> 1 | E32: ='POÇO ARTESIANO; RESERVATÓRIO '!E26 -> 8299 | F32: 1 | G32: 0.5 | H32: 0.5 | I32: - | J32: 1
F33: =E32*D32 -> 8299 | G33: =F33*G32 -> 4149.5 | H33: =F33*H32 -> 4149.5 | I33: - | J33: =SUM(G33:H33) -> 8299
A34: ='POÇO ARTESIANO; RESERVATÓRIO '!A27 -> 1.5.3 | B34: ='POÇO ARTESIANO; RESERVATÓRIO '!B27 -> TUBO ROSCAVEL 1.1/2. | C34: ='POÇO ARTESIANO; RESERVATÓRIO '!C27 -> m | D34: ='POÇO ARTESIANO; RESERVATÓRIO '!D27 -> 72 | E34: ='POÇO ARTESIANO; RESERVATÓRIO '!E27 -> 117.39 | F34: 1 | G34: 0.5 | H34: 0.5 | I34: - | J34: 1
F35: =E34*D34 -> 8452.08 | G35: =F35*G34 -> 4226.04 | H35: =F35*H34 -> 4226.04 | I35: - | J35: =SUM(G35:H35) -> 8452.08
A36: ='POÇO ARTESIANO; RESERVATÓRIO '!A28 -> 1.5.4 | B36: ='POÇO ARTESIANO; RESERVATÓRIO '!B28 -> CORDA BRANCA TRANÇADA 12MM | C36: ='POÇO ARTESIANO; RESERVATÓRIO '!C28 -> m | D36: ='POÇO ARTESIANO; RESERVATÓRIO '!D28 -> 90 | E36: ='POÇO ARTESIANO; RESERVATÓRIO '!E28 -> 4.945 | F36: 1 | G36: 0.5 | H36: 0.5 | I36: - | J36: 1
F37: =E36*D36 -> 445.05 | G37: =F37*G36 -> 222.525 | H37: =F37*H36 -> 222.525 | I37: - | J37: =SUM(G37:H37) -> 445.05
A38: ='POÇO ARTESIANO; RESERVATÓRIO '!A29 -> 1.5.5 | B38: ='POÇO ARTESIANO; RESERVATÓRIO '!B29 -> FITA AUTO FUSÃO 10M | C38: ='POÇO ARTESIANO; RESERVATÓRIO '!C29 -> und. | D38: ='POÇO ARTESIANO; RESERVATÓRIO '!D29 -> 1 | E38: ='POÇO ARTESIANO; RESERVATÓRIO '!E29 -> 49.45 | F38: 1 | G38: 0.5 | H38: 0.5 | I38: - | J38: 1
F39: =E38*D38 -> 49.45 | G39: =F39*G38 -> 24.725 | H39: =F39*H38 -> 24.725 | I39: - | J39: =SUM(G39:H39) -> 49.45
A40: ='POÇO ARTESIANO; RESERVATÓRIO '!A30 -> 1.5.6 | B40: ='POÇO ARTESIANO; RESERVATÓRIO '!B30 -> FITA VEDA ROSCA 18X50mts | C40: ='POÇO ARTESIANO; RESERVATÓRIO '!C31 -> und. | D40: ='POÇO ARTESIANO; RESERVATÓRIO '!D30 -> 4 | E40: ='POÇO ARTESIANO; RESERVATÓRIO '!E30 -> 10.75 | F40: 1 | G40: 0.5 | H40: 0.5 | I40: - | J40: 1
F41: =E40*D40 -> 43 | G41: =F41*G40 -> 21.5 | H41: =F41*H40 -> 21.5 | I41: - | J41: =SUM(G41:H41) -> 43
A42: ='POÇO ARTESIANO; RESERVATÓRIO '!A31 -> 1.5.7 | B42: ='POÇO ARTESIANO; RESERVATÓRIO '!B31 -> Luva F°G° de 1 1/2" (IE) | C42: ='POÇO ARTESIANO; RESERVATÓRIO '!C31 -> und. | D42: ='POÇO ARTESIANO; RESERVATÓRIO '!D31 -> 12 | E42: ='POÇO ARTESIANO; RESERVATÓRIO '!E31 -> 8.38629 | F42: 1 | G42: 0.5 | H42: 0.5 | I42: - | J42: 1
F43: =E42*D42 -> 100.63548 | G43: =F43*G42 -> 50.31774 | H43: =F43*H42 -> 50.31774 | I43: - | J43: =SUM(G43:H43) -> 100.63548
A44: ='POÇO ARTESIANO; RESERVATÓRIO '!A32 -> 1.5.8 | B44: ='POÇO ARTESIANO; RESERVATÓRIO '!B32 -> UNIÃO, EM FERRO GALVANIZADO, DN 40 (1 1/2"), CONEXÃO ROSQUEADA, INSTALADO EM REDE DE ALIMENTAÇÃO - FORNECIMENTO E INSTALAÇÃO. AF_12/2015 | C44: ='POÇO ARTESIANO; RESERVATÓRIO '!C32 -> und. | D44: ='POÇO ARTESIANO; RESERVATÓRIO '!D32 -> 1 | E44: ='POÇO ARTESIANO; RESERVATÓRIO '!E32 -> 70.908836 | F44: 1 | G44: 0.5 | H44: 0.5 | I44: - | J44: 1
F45: =E44*D44 -> 70.908836 | G45: =F45*G44 -> 35.454418 | H45: =F45*H44 -> 35.454418 | I45: - | J45: =SUM(G45:H45) -> 70.908836
...

Sheet BDI
A5: OBRA: | B5: PERFURAÇÃO DE 80 METROS LINEARES EM SOLO E ROCHAS SEDIMENTARES, RESERVATÓRIO ELEVADO E DISTRIBUIÇÃO LOCAL DE ÁGUA FRIA
A6: TOMADOR: | B6: PREFEITURA MUNICIPAL DE ITAITUBA
A7: CONTRATO:
A8: EMPREENDIMENTO: | B8: PERFURAÇÃO DE 80 METROS LINEARES EM SOLO E ROCHAS SEDIMENTARES, RESERVATÓRIO ELEVADO E DISTRIBUIÇÃO LOCAL DE ÁGUA FRIA
A9: PROGRAMA: | B9: PLANO DE TRABALHO
A10: MODALIDADE: | B10: CONSTRUÇÃO
A11: GESTOR: | B11: VALMIR CLIMACO DE AGUIAR
A12: Cálculo do BDI Fórmula e parâmetros estabelecidos pelo Acórdão 2622/2013 - TCU - Plenário
A14: DEMONSTRATIVO BDI | F14: LIMITE RECOMENDADOS
A15: ITENS | C15: SIGLAS | D15: VALORES | F15: INFERIOR | G15: SUPERIOR
A16: TAXA DE RATEIO DA ADMINISTRAÇÃO CENTRAL | C16: AC | D16: 0.055 | F16: 0.03 | G16: 0.055
A17: TAXA DE GARANTIA DO EMPREENDIMENTO | C17: G | D17: 0.0045 | F17: 0.004 | G17: 0.005
A18: TAXA DE SEGURO | C18: S | D18: 0.0045 | F18: 0.004 | G18: 0.005
A19: TAXA DE RISCO | C19: R | D19: 0.0127 | F19: 0.0097 | G19: 0.0127
A20: Sub-Total | D20: 0.0767
A21: TAXA DE DESPESAS FINANCEIRAS | C21: DF | D21: 0.01 | F21: 0.0059 | G21: 0.0139
A22: TAXA DE LUCRO | C22: L | D22: 0.0866 | F22: 0.0616 | G22: 0.0896
A23: TAXA DE TRIBUTOS | B23: PIS (geralmente 0,65%) | C23: I | D23: 0.0065 | F23: VARIÁVEL
B24: COFINS (geralmente 3,00%) | D24: 0.03
B25: ISS (legislação municipal) | D25: 0.0025
B26: CPRB (INSS) | D26: 0.045
A27: TAXA TOTAL DE IMPOSTO I | D27: 0.084
A29: BDI RESULTANTE | D29: 0.29000179 | F29: 0.25 | G29: 0.3
A31: Fórmula para o cálculo do B.D.I. ( benefícios e despesas indiretas )
A32: BDI = ((1+AC+S+R+G)(1+DF)(1+L)/(1-I))-1
