Workbook

Sheet MEMÓRIA DE CÁLCULO
A7: =ORÇAMENTO!A8 -> OBRA: ESCOLA MUNICIPAL DE ENSINO FUNDAMENTAL INDEPENDÊNCIA I.
A8: =ORÇAMENTO!A9 -> LOCAL DA OBRA: MARGEM ESQUERDA DO RIO TAPAJÓS, COMUNIDADE INDEPENDÊNCIA I.
A9: Município: ITAITUBA - PARÁ
A10: MEMÓRIA DE CÁLCULO
A11: 1.0 | B11: SERVIÇOS PRELIMINARES:
A12: 1.1 | B12: PLACA DA OBRA EM LONA COM PLOTAGEM GRÁFICA -> ( 2,80m x 2,20m) | C12: m² | D12: 6.16
B13: Total | C13: m² | D13: =SUM(D12) -> 6.16
A14: 1.2 | B14: LOCAÇÃO DA OBRA A TRENA | C14: m² | D14: 189.85
B15: Total | C15: m² | D15: =SUM(D14:D14) -> 189.85
A16: 2.0 | B16: MOVIMENTAÇÃO DE TERRA:
A17: 2.1 | B17: Escavação manual ate 1.50m de profundidade (Blocos e viga baldrame) | C17: m³
A18: 2.1.1 | B18: BLOCOS -> ( 0,60m x 0,60m x 1,00m )20 unidades. | C18: m³ | D18: =(0.65*0.65*1)*20 -> 8.45
A19: 2.1.2 | B19: VIGA BALDRAME -> (76,60m x 0,35m x 0,20m) | C19: m³ | D19: =76.6*0.2*0.35 -> 5.362
B20: Total | C20: m³ | D20: =SUM(D18:D19) -> 13.812
A21: 2.2 | B21: Aterro c/ material fora da obra, incl. Apiloamento (30% dos blocos e vigas baldrame) | C21: m³ | D21: 3.77
B22: Total | C22: m³ | D22: =SUM(D21:D21) -> 3.77
A23: 3.0 | B23: FUNDAÇÃO:
A24: 3.1 | B24: Bloco em concreto armado p/ fundaçao (incl. forma) | C24: m³
B25: --> ( 0,60m x 0,60m x 0,40m )20 unidades. | C25: m³ | D25: =(0.6*0.6*0.4)*20 -> 2.88
B26: Total | C26: m³ | D26: =SUM(D25) -> 2.88
A27: 3.2 | B27: Baldrame em concreto armado c/ cinta de amarração | C27: m³
B28: --> ( 76,60m x 0,30m x 0,15m ) | C28: m³ | D28: =76.6*0.3*0.15 -> 3.447
B29: Total | C29: m³ | D29: =SUM(D28) -> 3.447
A30: 4.0 | B30: ESTRUTURA:
A31: 4.1 | B31: CONC.ARMADO FCK 20 MPA C/ FORMA DE MAD. BRANCA | C31: m³
B32: PILARES GERAL --> | C32: m³ | D32: =(0.15*0.3*5)*20 -> 4.5
A33: 4.2 | B33: CINTA DE AMARRAÇÃO --> ( 76,60m x 0,20m x 0,15m ) | C33: m³ | D33: =76.6*0.2*0.15 -> 2.298
B34: Total | C34: m³ | D34: =SUM(D32:D33) -> 6.798
A35: 5.0 | B35: IMPERMEABILIZAÇÃO:
A36: 5.1 | B36: Impermeabilização de viga baldrame
A37: 5.2 | B37: VIGA BALDRAME -> (((76,60*0,3)*2)+(76,60*0,15)) | C37: m² | D37: =((76.6*0.3)*2)+(76.6*0.15) -> 57.45
B38: Total | C38: m² | D38: =SUM(D37:D37) -> 57.45
A39: 6.0 | B39: PAREDES E PAINEIS:
A40: 6.1 | B40: ALVENARIA TIJOLO DE BARRO A CUTELO
B41: PAREDES -> [(65,24m x 3,00m)+((7,06m x 4,90m)x2)+((12,00m x4,50m)x2)+((1,20m x 3,35m)x2))+(1,20m x 9,52m) -(24,80m²+15,50m²)] | C41: m² | D41: 145.62
B42: Total | C42: m² | D42: =SUM(D41) -> 145.62
A43: 6.2 | B43: VERGAS PRÉ-MOLDADAS PARA JANELAS COM MAIS DE 1,50M DE VÃO. | C43: m | D43: 15.9
B44: Total | C44: m | D44: =D43 -> 15.9
A45: 6.3 | B45: VERGAS PRÉ-MOLDADAS PARA PORTAS COM ATÉ 1,50M DE VÃO. | C45: m | D45: 7.5
B46: Total | C46: m | D46: =D45 -> 7.5
...

Sheet ORÇAMENTO
A7: PROPRIETÁRIO: MUNICÍPIO DE ITAITUBA | D7: DATA DA VISTORIA: xxx | H7: DATA DA EXPEDIÇÃO: 09/09/2020
A8: OBRA: ESCOLA MUNICIPAL DE ENSINO FUNDAMENTAL INDEPENDÊNCIA I. | D8: TABELA SINAPI/PA - 07/2020 SEDOP/PA - 04/2020 COM DESONERAÇÃO | H8: VALOR DA OBRA: | I8: =I93 -> 287433.44
A9: LOCAL DA OBRA: MARGEM ESQUERDA DO RIO TAPAJÓS, COMUNIDADE INDEPENDÊNCIA I. | K9: =I93 -> 287433.44
A11: ITEM | B11: REF. CÓD | C11: DESCRIÇÃO | D11: UNID. | E11: QUANT. | F11: PREÇO | J11: B.D.I (%) OBRA
F12: UNITÁRIO SEM BDI | G12: UNITÁRIO COM BDI | H12: TOTAL S/ BDI | I12: TOTAL C/ BDI | J12: 0.29
A14: 1000000 | C14: SERVIÇOS PRELIMINARES | H14: =H15+H16 -> 1799.4738 | I14: =SUM(I15:I16) -> 2321.3212
A15: 1001000 | B15: SEDOP 011340 | C15: PLACA DA OBRA EM LONA COM PLOTAGEM GRÁFICA | D15: m² | E15: ='MEMÓRIA DE CÁLCULO'!D13 -> 6.16 | F15: 160.83 | G15: =((F15*$J$12)+F15) -> 207.4707 | H15: =F15*E15 -> 990.7128 | I15: =G15*E15 -> 1278.0195 | J15: INCLUSO
A16: 1002000 | B16: SEDOP 010009 | C16: LOCAÇÃO DA OBRA A TRENA | D16: m² | E16: ='MEMÓRIA DE CÁLCULO'!D15 -> 189.85 | F16: 4.26 | G16: =((F16*$J$12)+F16) -> 5.4954 | H16: =F16*E16 -> 808.761 | I16: =G16*E16 -> 1043.3017 | J16: INCLUSO
A17: 2000000 | C17: MOVIMENTO DE TERRA | H17: =SUM(H18:H19) -> 949.02396 | I17: =SUM(I18:I19) -> 1224.2409
A18: 2001000 | B18: SEDOP 30010 | C18: ESCAVAÇÃO MANUAL ATÉ 1.50 m DE PROFUNDIDADE (BLOCOS E VIGAS) | D18: m³ | E18: ='MEMÓRIA DE CÁLCULO'!D20 -> 13.812 | F18: 43.08 | G18: =((F18*$J$12)+F18) -> 55.5732 | H18: =F18*E18 -> 595.02096 | I18: =G18*E18 -> 767.57704 | J18: INCLUSO
A19: 2002000 | B19: SEDOP 030011 | C19: ATERRO COM MATERIAL FORA DA OBRA, INCL. APILOAMENTO | D19: m³ | E19: ='MEMÓRIA DE CÁLCULO'!D22 -> 3.77 | F19: 93.9 | G19: =((F19*$J$12)+F19) -> 121.131 | H19: =F19*E19 -> 354.003 | I19: =G19*E19 -> 456.66387 | J19: INCLUSO
A20: 3000000 | C20: FUNDAÇÃO | H20: =SUM(H21:H22) -> 13414.613 | I20: =SUM(I21:I22) -> 17304.851
A21: 3001000 | B21: SEDOP 040283 | C21: BLOCO EM CONCRETO ARMADO PARA FUNDAÇÃO (INCL. FÔRMA) | D21: m³ | E21: ='MEMÓRIA DE CÁLCULO'!D26 -> 2.88 | F21: 2189.68 | G21: =((F21*$J$12)+F21) -> 2824.6872 | H21: =F21*E21 -> 6306.2784 | I21: =G21*E21 -> 8135.0991 | J21: INCLUSO
A22: 3002000 | B22: SEDOP 040284 | C22: BALDRAME EM CONCRETO ARMADO COM CINTA DE AMARRAÇÃO | D22: m³ | E22: ='MEMÓRIA DE CÁLCULO'!D29 -> 3.447 | F22: 2062.18 | G22: =((F22*$J$12)+F22) -> 2660.2122 | H22: =F22*E22 -> 7108.3345 | I22: =G22*E22 -> 9169.7515 | J22: INCLUSO
A23: 4000000 | C23: ESTRUTURA | H23: =H24 -> 16041.105 | I23: =I24 -> 20693.025
A24: 4001000 | B24: SEDOP 050729 | C24: CONCRETO ARMADO FCK=20MPA COM FÔRMA MAD. BRANCA (PILARES E VIGAS DE AMARRAÇÃO) | D24: m² | E24: ='MEMÓRIA DE CÁLCULO'!D34 -> 6.798 | F24: 2359.68 | G24: =((F24*$J$12)+F24) -> 3043.9872 | H24: =F24*E24 -> 16041.105 | I24: =G24*E24 -> 20693.025 | J24: INCLUSO | K24: OK
A25: 5000000 | C25: IMPERMEABILIZAÇÃO | D25: M2 | H25: =H26 -> 3240.18 | I25: =I26 -> 4179.8322
A26: 5001000 | B26: SEDOP 080293 | C26: IMPERMEABILIZAÇÃO PARA BALDRAME (IGOL 2 + SIKA 1) | D26: m² | E26: ='MEMÓRIA DE CÁLCULO'!D38 -> 57.45 | F26: 56.4 | G26: =((F26*$J$12)+F26) -> 72.756 | H26: =F26*E26 -> 3240.18 | I26: =G26*E26 -> 4179.8322 | J26: INCLUSO
A27: 6000000 | C27: PAREDES E PAINÉIS | D27: M2 | H27: =SUM(H28:H30) -> 9691.9699 | I27: =SUM(I28:I30) -> 12502.641
A28: 6001000 | B28: SINAPI 87478 | C28: ALVENARIA DE VEDAÇÃO DE BLOCOS CERÂMICOS DE 9X19X39CM E ARGAMASSA DE ASSENTAMENTO COM PREPARO MANUAL | D28: m² | E28: 241.19 | F28: 37.31 | G28: =((F28*$J$12)+F28) -> 48.1299 | H28: =F28*E28 -> 8998.7989 | I28: =G28*E28 -> 11608.451 | J28: INCLUSO
A29: 6002000 | B29: SINAPI 93183 | C29: VERGAS PRÉ-MOLDADAS PARA JANELAS COM MAIS DE 1,50M DE VÃO. | D29: m | E29: ='MEMÓRIA DE CÁLCULO'!D44 -> 15.9 | F29: 33.94 | G29: =((F29*$J$12)+F29) -> 43.7826 | H29: =F29*E29 -> 539.646 | I29: =G29*E29 -> 696.14334 | J29: INCLUSO
A30: 6003000 | B30: SINAPI 93184 | C30: VERGAS PRÉ-MOLDADAS PARA PORTAS COM ATÉ 1,50M DE VÃO. | D30: m | E30: ='MEMÓRIA DE CÁLCULO'!D46 -> 7.5 | F30: 20.47 | G30: =((F30*$J$12)+F30) -> 26.4063 | H30: =F30*E30 -> 153.525 | I30: =G30*E30 -> 198.04725 | J30: INCLUSO
A31: 7000000 | C31: REVESTIMENTO | D31: M2 | H31: =SUM(H32:H35) -> 18927.547 | I31: =SUM(I32:I35) -> 24416.536
A32: 7001000 | B32: SEDOP 110143 | C32: CHAPISCO DE CIMENTO E AREIA NO TRAÇO 1:3 | D32: m² | E32: ='MEMÓRIA DE CÁLCULO'!D49 -> 291.24 | F32: 9.04 | G32: =((F32*$J$12)+F32) -> 11.6616 | H32: =F32*E32 -> 2632.8096 | I32: =G32*E32 -> 3396.3244 | J32: INCLUSO
A33: 7002000 | B33: SEDOP 110763 | C33: REBOCO COM ARGAMASSA 1:6:ADIT. PLAST. | D33: m² | E33: ='MEMÓRIA DE CÁLCULO'!D51 -> 195.39 | F33: 36.69 | G33: =((F33*$J$12)+F33) -> 47.3301 | H33: =F33*E33 -> 7168.8591 | I33: =G33*E33 -> 9247.8282 | J33: INCLUSO
A34: 7003000 | B34: SEDOP 110644 | C34: REVESTIMENTO CERÂMICO PADRÃO MÉDIO | D34: m² | E34: ='MEMÓRIA DE CÁLCULO'!D54 -> 95.85 | F34: 64.03 | G34: =((F34*$J$12)+F34) -> 82.5987 | H34: =F34*E34 -> 6137.2755 | I34: =G34*E34 -> 7917.0854 | J34: INCLUSO
A35: 7004000 | B35: SEDOP 110762 | C35: EMBOÇO COM ARGAMASSA 1:6:ADIT. PLAST. | D35: m² | E35: ='MEMÓRIA DE CÁLCULO'!D55 -> 95.85 | F35: 31.18 | G35: =((F35*$J$12)+F35) -> 40.2222 | H35: =F35*E35 -> 2988.603 | I35: =G35*E35 -> 3855.2979 | J35: INCLUSO | K35: OK
A36: 8000000 | C36: PISOS | H36: =SUM(H37:H40) -> 21448.044 | I36: =SUM(I37:I40) -> 27667.977
A37: 8001000 | B37: SEDOP 130507 | C37: CAMADA IMPERMEABILIZADORA E=10CM C/ SEIXO | D37: m² | E37: ='MEMÓRIA DE CÁLCULO'!D60 -> 110.55 | F37: 48.56 | G37: =((F37*$J$12)+F37) -> 62.6424 | H37: =F37*E37 -> 5368.308 | I37: =G37*E37 -> 6925.1173 | J37: INCLUSO
A38: 8002000 | B38: SEDOP 130110 | C38: CAMADA REGULARIZADORA | D38: m² | E38: ='MEMÓRIA DE CÁLCULO'!D63 -> 110.55 | F38: 29.44 | G38: =((F38*$J$12)+F38) -> 37.9776 | H38: =F38*E38 -> 3254.592 | I38: =G38*E38 -> 4198.4237 | J38: INCLUSO
A39: 8003000 | B39: SEDOP 130492 | C39: CALÇADA(INCL. ALICERCE, BALDRME E CONCRETO C/ JUNTA SECA | D39: m² | E39: ='MEMÓRIA DE CÁLCULO'!D69 -> 55.4 | F39: 85.93 | G39: =((F39*$J$12)+F39) -> 110.8497 | H39: =F39*E39 -> 4760.522 | I39: =G39*E39 -> 6141.0734 | J39: INCLUSO
A40: 8004000 | B40: SEDOP 130119 | C40: LAJOTA CERAMICA - PEI IV - (PADRÃO MÉDIO), SENDO ANTIDERRAPANTE PARA OS BANHEIROS | D40: m² | E40: ='MEMÓRIA DE CÁLCULO'!D66 -> 110.55 | F40: 72.95 | G40: =((F40*$J$12)+F40) -> 94.1055 | H40: =F40*E40 -> 8064.6225 | I40: =G40*E40 -> 10403.363 | J40: INCLUSO
A41: 9000000 | C41: INSTALAÇÕES | H41: =H42+H55 -> 35126.85 | I41: =I42+I55 -> 39500.121
A42: 9100000 | C42: INSTALAÇÃO ELÉTRICA | H42: =SUM(H43:H54) -> 11809.12 | I42: =SUM(I43:I54) -> 18077.97
A43: 9101000 | B43: SINAPI 93128 | C43: PONTO ILUMINAÇÃO RESIDENCIAL INCLUINDO INTERRUPTOR SIMPLES, CAIXA ELÉTRICA, ELETRODUTO, CABO, RASGO, QUEBRA E CHUMBAMENTO. ( EXCLUINDO LUMINÁRIA E LAMPADA). AF 01/2016 | D43: UND | E43: ='MEMÓRIA DE CÁLCULO'!D73 -> 25 | F43: 105.96 | G43: =((F43*$J$12)+F43) -> 136.6884 | H43: =F43*E43 -> 2649 | I43: 3464.5401 | J43: INCLUSO
A44: 9102000 | B44: SINAPI 93143 | C44: PONTO DE TOMADA RESIDENCIAL INCLUINDO TOMADA 20A/250V, CAIXA ELÉTRICA, ELETRODUTO, CABO, RASGO, QUEBRA E CHUMBAMENTO. AF_01/2016. | D44: UND | E44: ='MEMÓRIA DE CÁLCULO'!D75 -> 17 | F44: 129.15 | G44: =((F44*$J$12)+F44) -> 166.6035 | H44: =F44*E44 -> 2195.55 | I44: 2917.206 | J44: INCLUSO
A45: 9103000 | B45: SEDOP 170321 | C45: CENTRO DE DISTRIBUIÇÃO PARA 12 DISJUNTORES COM BARRAMENTO | D45: UND | E45: ='MEMÓRIA DE CÁLCULO'!D77 -> 1 | F45: 323.51 | G45: =((F45*$J$12)+F45) -> 417.3279 | H45: =F45*E45 -> 323.51 | I45: 2881.4472 | J45: INCLUSO
A46: 9104000 | B46: SEDOP 171164 | C46: HASTE DE AÇO COBREADA 5/8"x2,40m C/ CONECTOR | D46: UND | E46: ='MEMÓRIA DE CÁLCULO'!D79 -> 5 | F46: 98.34 | G46: =((F46*$J$12)+F46) -> 126.8586 | H46: =F46*E46 -> 491.7 | I46: 460.659 | J46: INCLUSO
A47: 9105000 | B47: SEDOP 250732 | C47: VENTILADOR DE TETO | D47: UND | E47: ='MEMÓRIA DE CÁLCULO'!D81 -> 6 | F47: 200.31 | G47: =((F47*$J$12)+F47) -> 258.3999 | H47: =F47*E47 -> 1201.86 | I47: 2150.7138 | J47: INCLUSO
A48: 9106000 | B48: SEDOP 170073 | C48: QUADRO DE MEDIÇÃO BIFÁSICO (C/ DISJUNTOR) | D48: UND | E48: ='MEMÓRIA DE CÁLCULO'!D83 -> 1 | F48: 386.23 | G48: =((F48*$J$12)+F48) -> 498.2367 | H48: =F48*E48 -> 386.23 | I48: 709.5516 | J48: INCLUSO
...

Sheet CRONOGRAMA
A7: PROPRIETÁRIO: MUNICÍPIO DE ITAITUBA | D7: =ORÇAMENTO!H7 -> DATA DA EXPEDIÇÃO: 09/09/2020
A8: =ORÇAMENTO!A8 -> OBRA: ESCOLA MUNICIPAL DE ENSINO FUNDAMENTAL INDEPENDÊNCIA I.
A9: =ORÇAMENTO!A9 -> LOCAL DA OBRA: MARGEM ESQUERDA DO RIO TAPAJÓS, COMUNIDADE INDEPENDÊNCIA I. | D9: =ORÇAMENTO!H8 -> VALOR DA OBRA: | G9: =ORÇAMENTO!I93 -> 287433.44
A11: CRONOGRAMA FÍSICO-FINANCEIRO DETALHADO
A13: ITEM | B13: DISCRIMINAÇÃO DOS SERVIÇOS | C13: UNID. | D13: % | E13: DIAS | F13: DIAS | G13: DIAS | H13: DIAS
E14: 30 | F14: 60 | G14: 90 | H14: 120
A15: 1000000 | B15: SERVIÇOS PRELIMINARES | C15: =ORÇAMENTO!I14 -> 2321.3212 | D15: =ROUND(C15/$C$47,5) -> 0.00808 | E15: 1
E16: =C15*$E$15 -> 2321.3212
A17: 2000000 | B17: MOVIMENTO DE TERRA | C17: =ORÇAMENTO!I17 -> 1224.2409 | D17: =ROUND(C17/$C$47,5) -> 0.00426 | E17: 1
E18: =C17*$E$17 -> 1224.2409
A19: 3000000 | B19: FUNDAÇÃO | C19: =ORÇAMENTO!I20 -> 17304.851 | D19: =ROUND(C19/$C$47,5) -> 0.0602 | E19: 1
E20: =C19*$E$19 -> 17304.851
A21: 4000000 | B21: ESTRUTURA | C21: =ORÇAMENTO!I23 -> 20693.025 | D21: =ROUND(C21/$C$47,5) -> 0.07199 | E21: 0.6 | F21: 0.4
E22: =C21*$E$21 -> 12415.815 | F22: =C21*$F$21 -> 8277.21
A23: 5000000 | B23: IMPERMEABILIZAÇÃO | C23: =ORÇAMENTO!I25 -> 4179.8322 | D23: =ROUND(C23/$C$47,5) -> 0.01454 | E23: 1
E24: =C23*$E$23 -> 4179.8322
A25: 6000000 | B25: PAREDES E PAINÉIS | C25: =ORÇAMENTO!I27 -> 12502.641 | D25: =ROUND(C25/$C$47,5) -> 0.0435 | E25: 0.3 | F25: 0.7
E26: =C25*$E$25 -> 3750.7924 | F26: =C25*$F$25 -> 8751.8488
A27: 7000000 | B27: REVESTIMENTO | C27: =ORÇAMENTO!I31 -> 24416.536 | D27: =ROUND(C27/$C$47,5) -> 0.08495 | E27: 0.3 | F27: 0.3 | G27: 0.4
E28: =C27*$E$27 -> 7324.9608 | F28: =C27*$F$27 -> 7324.9608 | G28: =C27*$G$27 -> 9766.6144
A29: 8000000 | B29: PAVIMENTAÇÃO | C29: =ORÇAMENTO!I36 -> 27667.977 | D29: =ROUND(C29/$C$47,5) -> 0.09626 | F29: 0.5 | G29: 0.5
F30: =C29*$F$29 -> 13833.989 | G30: =C29*$G$29 -> 13833.989
A31: 9000000 | B31: INSTALAÇÕES | C31: =ORÇAMENTO!I41 -> 39500.121 | D31: =ROUND(C31/$C$47,5) -> 0.13742 | F31: 0.4 | G31: 0.6
F32: =C31*$F$31 -> 15800.049 | G32: =C31*$G$31 -> 23700.073
A33: 10000000 | B33: FORRO | C33: =ORÇAMENTO!I63 -> 16294.627 | D33: =ROUND(C33/$C$47,5) -> 0.05669 | G33: 0.4 | H33: 0.6
G34: =C33*$G$33 -> 6517.8507 | H34: =C33*$H$33 -> 9776.7761
A35: 11000000 | B35: ESQUADRIAS | C35: =ORÇAMENTO!I66 -> 15307.284 | D35: =ROUND(C35/$C$47,5) -> 0.05326 | F35: 0.3 | G35: 0.3 | H35: 0.4
F36: =C35*$F$35 -> 4592.1852 | G36: =C35*$G$35 -> 4592.1852 | H36: =C35*$H$35 -> 6122.9136
A37: 12000000 | B37: PINTURA | C37: =ORÇAMENTO!I71 -> 9044.8866 | D37: =ROUND(C37/$C$47,5) -> 0.03147 | F37: 0.2 | G37: 0.3 | H37: 0.5
F38: =C37*$F$37 -> 1808.9773 | G38: =C37*$G$37 -> 2713.466 | H38: =C37*$H$37 -> 4522.4433
A39: 13000000 | B39: LOUÇAS E METAIS | C39: =ORÇAMENTO!I74 -> 4327.7307 | D39: =ROUND(C39/$C$47,5) -> 0.01506 | H39: 1
H40: =C39*$H$39 -> 4327.7307
A41: 14000000 | B41: COBERTURA | C41: =ORÇAMENTO!I79 -> 32033.351 | D41: =ROUND(C41/$C$47,5) -> 0.11145 | E41: 0.35 | F41: 0.65
E42: =C41*$E$41 -> 11211.673 | F42: =C41*$F$41 -> 20821.678
A43: 15000000 | B43: COMBATE A INCENDIO | C43: =ORÇAMENTO!I84 -> 1440.2076 | D43: =ROUND(C43/$C$47,5) -> 0.00501 | H43: 1
H44: =C43*$H$43 -> 1440.2076
A45: 16000000 | B45: DIVERSOS | C45: =ORÇAMENTO!I87 -> 59174.803 | D45: =ROUND(C45/$C$47,5) -> 0.20587 | E45: 0.2 | F45: 0.2 | G45: 0.2 | H45: 0.4
E46: =C45*$E$45 -> 11834.961 | F46: =C45*$F$45 -> 11834.961 | G46: =C45*$G$45 -> 11834.961 | H46: =C45*$H$45 -> 23669.921
A47: TOTAL | C47: =SUM(C15:C46) -> 287433.44 | D47: =SUM(D15:D46) -> 1.00001
A48: PARCIAL SIMPLES R$ | E48: =E16+E18+E20+E22+E24+E26+E28+E30+E32+E34+E36+E38+E40+E42+E44+E46 -> 71568.446 | F48: =F16+F18+F20+F22+F24+F26+F28+F30+F32+F34+F36+F38+F40+F42+F44+F46 -> 93045.858 | G48: =G16+G18+G20+G22+G24+G26+G28+G30+G32+G34+G36+G38+G40+G42+G44+G46 -> 72959.138 | H48: =H16+H18+H20+H22+H24+H26+H28+H30+H32+H34+H36+H38+H40+H42+H44+H46 -> 49859.992
...

Sheet CUSTO UNITÁRIO
A7: PROPRIETÁRIO: MUNICÍPIO DE ITAITUBA | D7: DATA DA VISTORIA:xxx | F7: =ORÇAMENTO!H7 -> DATA DA EXPEDIÇÃO: 09/09/2020
A8: =CRONOGRAMA!A9 -> LOCAL DA OBRA: MARGEM ESQUERDA DO RIO TAPAJÓS, COMUNIDADE INDEPENDÊNCIA I. | F8: VALOR DA OBRA: | G8: =ORÇAMENTO!I93 -> 287433.44
A9: TABELA SINAPI/PA - 07/2020 SEDOP/PA - 04/2020 COM DESONERAÇÃO | D9: B.D.I (29,00%)
A11: 1.1. 011340 - PLACA DA OBRA EM LONA COM PLOTAGEM GRÁFICA - m²
A12: MATERIAL | C12: FONTE | D12: UNID | E12: COEFICENTE | F12: PREÇO UNITÁRIO | G12: TOTAL
A13: D00475 | B13: Lona com plotagem de gráfica | C13: SEDOP | D13: M² | E13: 1 | F13: 87.5 | G13: =E13*F13 -> 87.5
A14: D00281 | B14: Pernamanca 3" x 2" 4 m - madeira branca | C14: SEDOP | D14: Dz | E14: 0.41 | F14: 145 | G14: =E14*F14 -> 59.45
A15: D00084 | B15: Prego 1 1/2"x13 | C15: SEDOP | D15: Kg | E15: 0.1 | F15: 9.55 | G15: =E15*F15 -> 0.955
A16: 88261 | B16: CARPINTEIRO COM ENCARGOS COMPLEMENTARES | C16: SEDOP | D16: H | E16: 0.4 | F16: 17.94 | G16: =E16*F16 -> 7.176
A17: 88316 | B17: SERVENTE COM ENCARGOS COMPLEMENTARES | C17: SEDOP | D17: H | E17: 0.4 | F17: 14.36 | G17: =E17*F17 -> 5.744
F18: VALOR S/ LEI | G18: =SUM(G13:G17) -> 160.825
F19: ENCARGOS: H:86,22% OU M:47,52% | G19: 0
F20: TOTAL C/ ENCARGOS S/ BDI | G20: =SUM(G18:G19) -> 160.825
A21: 1.2. 010009 -LOCAÇÃO DA OBRA A TRENA- m²
A22: MATERIAL | C22: FONTE | D22: UNID | E22: COEFICENTE | F22: PREÇO UNITÁRIO | G22: TOTAL
A23: D00081 | B23: Prego 2 1/2"x10 | C23: SEDOP | D23: Kg | E23: 0.003 | F23: 8.38 | G23: =E23*F23 -> 0.02514
A24: D00043 | B24: Arame recozido No. 18 | C24: SEDOP | D24: Kg | E24: 0.002 | F24: 8.5 | G24: =E24*F24 -> 0.017
A25: D00281 | B25: Pernamanca 3" x 2" 20 pls - madeira branca | C25: SEDOP | D25: Dz | E25: 0.01 | F25: 145 | G25: =E25*F25 -> 1.45
A26: D00016 | B26: Tábua de madeira branca 4m | C26: SEDOP | D26: Dz | E26: 0.01 | F26: 70 | G26: =E26*F26 -> 0.7
A27: D00238 | B27: Linha de nylon no. 80 | C27: SEDOP | D27: Rl | E27: 0.01 | F27: 7.98 | G27: =E27*F27 -> 0.0798
A28: 88261 | B28: CARPINTEIRO COM ENCARGOS COMPLEMENTARES | C28: SEDOP | D28: H | E28: 0.07 | F28: 17.94 | G28: =E28*F28 -> 1.2558
A29: 88316 | B29: SERVENTE COM ENCARGOS COMPLEMENTARES | C29: SEDOP | D29: H | E29: 0.05 | F29: 14.36 | G29: =E29*F29 -> 0.718
F30: VALOR S/ LEI | G30: 4.26
F31: ENCARGOS: H:86,22% OU M:47,52% | G31: 0
F32: TOTAL C/ ENCARGOS S/ BDI | G32: =G30+G31 -> 4.26
A33: 2.1. 030010 -Escavação manual ate 1.50m de profundidade- m³
A34: MATERIAL | C34: FONTE | D34: UNID | E34: COEFICENTE | F34: PREÇO UNITÁRIO | G34: TOTAL
A35: 88316 | B35: SERVENTE COM ENCARGOS COMPLEMENTARES | C35: SEDOP | D35: H | E35: 3 | F35: 14.36 | G35: =F35*E35 -> 43.08
F36: VALOR S/ LEI | G36: =SUM(G35) -> 43.08
F37: ENCARGOS: H:86,22% OU M:47,52% | G37: 0
F38: TOTAL C/ ENCARGOS S/ BDI | G38: =SUM(G36+G37) -> 43.08
A39: 2.2. 030011 -Aterro c/ material fora da obra, incl. Apiloamento- m³
A40: MATERIAL | C40: FONTE | D40: UNID | E40: COEFICENTE | F40: PREÇO UNITÁRIO | G40: TOTAL
A41: M00006 | B41: Compactador de solo CM-13 | C41: SEDOP | D41: Hp | E41: 0.3 | F41: 11.06 | G41: =E41*F41 -> 3.318
A42: J00001 | B42: Aterro arenoso | C42: SEDOP | D42: M³ | E42: 1.25 | F42: 38 | G42: =E42*F42 -> 47.5
A43: 88316 | B43: SERVENTE COM ENCARGOS COMPLEMENTARES | C43: SEDOP | D43: H | E43: 3 | F43: 14.36 | G43: =E43*F43 -> 43.08
F44: VALOR S/ LEI | G44: =SUM(G41:G43) -> 93.898
F45: ENCARGOS: H:86,22% OU M:47,52% | G45: 0
F46: TOTAL C/ ENCARGOS S/ BDI | G46: =SUM(G44+G45) -> 93.898
A47: 3.1. 040283 -Bloco em concreto armado p/ fundaçao (incl. forma)- m³
...

Sheet ORÇAMENTO SIMPLES
A7: LOCAL DA OBRA: RODOVIA TRANSAMAZÔNICA KM 17 - COMUNIDADE BOA VISTA | D7: DATA LEVANTAMENTO: 28/05/2019
A9: LEVANTAMENTO DE METRAGEM DE SERVIÇOS
A10: ITEM | B10: DISCRIMINAÇÃO DOS SERVIÇOS | C10: UNID | D10: QUANT | E10: PREÇO | F10: TOTAL
A12: 1.0
A13: 1.1 | B13: PLACA DA OBRA EM LONA COM PLOTAGEM GRÁFICA | C13: m² | D13: ='MEMÓRIA DE CÁLCULO'!D13 -> 6.16
A14: 1.4 | B14: LOCAÇÃO DA OBRA A TRENA | C14: m² | D14: ='MEMÓRIA DE CÁLCULO'!D15 -> 189.85
A15: 2.0 | B15: MOVIMENTO DE TERRA:
A16: 2.1 | B16: Escavação manual ate 1.50m de profundidade (Blocos e viga) | C16: m³ | D16: 9.15
A17: 2.2 | B17: Aterro c/ material fora da obra, incl. Apiloamento | C17: m³ | D17: 2.74
A18: 3.0 | B18: FUNDAÇÃO:
A19: 3.1 | B19: Bloco em concreto armado p/ fundaçao (incl. forma) | C19: m³ | D19: =#REF! -> #REF!
A20: 3.2 | B20: Baldrame em concreto armado c/ cinta de amarração | C20: m³ | D20: =#REF! -> #REF!
A21: 4.0 | B21: ESTRUTURA:
A22: 4.1 | B22: Concreto armado fck=25MPA c/ forma mad. branca | C22: m³ | D22: 5.72
A23: 5.0 | B23: IMPERMEABILIZAÇÃO:
A24: 5.1 | B24: Impermeabilização rebaixos banho./coz.(tinta asfaltica) (bloco e baldrame) | C24: m² | D24: 61.26
A25: 6.0 | B25: PAREDES E PAINEIS
A26: 6.2 | B26: ALVENARIA DE VEDAÇÃO DE BLOCOS CERÂMICOS DE 9X19X39CM E ARGAMASSA DE ASSENTAMENTO COM PREPARO MANUAL | C26: m² | D26: =#REF! -> #REF!
A27: 6.3 | B27: VERGAS PRÉ-MOLDADAS PARA JANELAS COM MAIS DE 1,50M DE VÃO. | C27: m | D27: ='MEMÓRIA DE CÁLCULO'!D44 -> 15.9
A28: 6.4 | B28: VERGAS PRÉ-MOLDADAS PARA PORTAS COM ATÉ 1,50M DE VÃO. | C28: m | D28: ='MEMÓRIA DE CÁLCULO'!D46 -> 7.5
A29: 7.0 | B29: REVESTIMENTO:
A30: 7.1 | B30: CHAPISCO DE CIMENTO E AREIA NO TRAÇO 1:3 | C30: m² | D30: ='MEMÓRIA DE CÁLCULO'!D49 -> 291.24
A31: 7.2 | B31: REBOCO COM ARGAMASSA 1:6:ADIT. PLAST. | C31: m² | D31: ='MEMÓRIA DE CÁLCULO'!D51 -> 195.39
A32: 7.3 | B32: AZULEJO BRANCO ASSENTADO A PRUMO NO TRAÇO 1:5:1 | C32: m² | D32: ='MEMÓRIA DE CÁLCULO'!D54 -> 95.85
A33: 8.0 | B33: PAVIMENTAÇÃO:
A34: 8.1 | B34: CAMADA IMPERMEABILIZADORA E=10CM C/ SEIXO | D34: =#REF! -> #REF!
A35: 8.3 | B35: CIMENTADO QUEIMADO | C35: m² | D35: =#REF! -> #REF!
A36: 8.4 | B36: CALÇADA(INCL. ALICERCE, BALDRME E CONCRETO C/ JUNTA SECA | C36: m² | D36: =#REF! -> #REF!
A37: 8.2 | B37: LAJOTA CERAMICA - PEI IV - (PADRÃO MÉDIO) | C37: m² | D37: ='MEMÓRIA DE CÁLCULO'!#REF! -> #REF!
A38: 9.0 | B38: INSTALAÇÕES:
A39: 9.1 | B39: ELÉTRICA:
A40: 9.1.1 | B40: PONTO ILUMINAÇÃO RESIDENCIAL INCLUINDO INTERRUPTOR SIMPES, CAIXA ELÉTRICA, ELETRODUTO, CABO, RASGO, QUEBRA E CHUMBAMENTO. ( EXCLUINDO LUMINÁRIA E LAMPADA). AF 01/2016 | C40: UND | D40: ='MEMÓRIA DE CÁLCULO'!D73 -> 25
A41: 9.1.2 | B41: PONTO DE TOMADA RESIDENCIAL INCLUINDO TOMADA 20A/250V, CAIXA ELÉTRICA, ELETRODUTO, CABO, RASGO, QUEBRA E CHUMBAMENTO. AF_01/2016. | C41: UND | D41: ='MEMÓRIA DE CÁLCULO'!D75 -> 17
A42: 9.1.4 | B42: QUADRO DE DISTRIBUIÇÃO DE ENERGIA DE EMBUTIR, EM CHAPA METÁLICA, PARA 50 DISJUNTORES TERMOMAGNETICOS MONOPOLARES, COM BARRAMENTO TRIFÁSICO E NEUTRO, FORNECIMENTO E INSTALAÇÃO. | C42: UND | D42: ='MEMÓRIA DE CÁLCULO'!D77 -> 1
A43: 9.1.5 | B43: HASTE DE AÇO COBREADA 5/8"x2,40m C/ CONECTOR | C43: UND | D43: ='MEMÓRIA DE CÁLCULO'!D78 -> 5
A44: 9.1.6 | B44: VENTILADOR DE TETO | C44: UND | D44: ='MEMÓRIA DE CÁLCULO'!D81 -> 6
A45: 9.1.7 | B45: QUADRO DE MEDIÇÃO TRIFÁSICO (C/ DISJUNTOR) | C45: UND | D45: ='MEMÓRIA DE CÁLCULO'!D83 -> 1
A46: 9.1.8 | B46: ='MEMÓRIA DE CÁLCULO'!B84 -> CAIXA DE PASSAGEM DE ALVENARIA 40x40x40cm C/ TAMPA DE CONCRETO | C46: UND | D46: ='MEMÓRIA DE CÁLCULO'!D85 -> 1
A47: 9.1.9 | B47: ='MEMÓRIA DE CÁLCULO'!B86 -> ELETRODUTO FºGº 3/4" | C47: M | D47: ='MEMÓRIA DE CÁLCULO'!D87 -> 145
A48: 9.1.10 | B48: ='MEMÓRIA DE CÁLCULO'!B88 -> ELETRODUTO FºGº 1" | C48: M | D48: ='MEMÓRIA DE CÁLCULO'!D89 -> 10
...

Sheet COMPOSIÇÃO DO BDI
A5: OBRA: | B5: PLANILHA ORÇAMENTÁRIA PARA A CONSTRUÇÃO DA ESCOLA MUNICIPAL DE ENSINO FUNDAMENTAL INDEPENDÊNCIA I.
A6: TOMADOR: | B6: PREFEITURA MUNICIPAL DE ITAITUBA
A7: CONTRATO:
A8: EMPREENDIMENTO: | B8: PROJETO PARA A CONSTRUÇÃO DA ESCOLA ESCOLA MUNICIPAL DE ENSINO FUNDAMENTAL INDEPENDÊNCIA I
A9: PROGRAMA: | B9: PLANO DE TRABALHO
A10: MODALIDADE: | B10: CONSTRUÇÃO
A11: GESTOR: | B11: VALMIR CLIMACO DE AGUIAR
A12: Cálculo do BDI Fórmula e parâmetros estabelecidos pelo Acórdão 2622/2013 - TCU - Plenário
A14: DEMONSTRATIVO BDI | F14: LIMITE RECOMENDADOS
A15: ITENS | C15: SIGLAS | D15: VALORES | F15: INFERIOR | G15: SUPERIOR
A16: TAXA DE RATEIO DA ADMINISTRAÇÃO CENTRAL | C16: AC | D16: 0.03 | F16: 0.03 | G16: 0.055
A17: TAXA DE GARANTIA DO EMPREENDIMENTO | C17: G | D17: 0.004 | F17: 0.004 | G17: 0.005
A18: TAXA DE SEGURO | C18: S | D18: 0.004 | F18: 0.004 | G18: 0.005
A19: TAXA DE RISCO | C19: R | D19: 0.0097 | F19: 0.0097 | G19: 0.0127
A20: Sub-Total | D20: =SUM(D16:D19) -> 0.0477
A21: TAXA DE DESPESAS FINANCEIRAS | C21: DF | D21: 0.006 | F21: 0.0059 | G21: 0.0139
A22: TAXA DE LUCRO | C22: L | D22: 0.063 | F22: 0.0616 | G22: 0.0896
A23: TAXA DE TRIBUTOS | B23: PIS (geralmente 0,65%) | C23: I | D23: 0.0065 | F23: VARIÁVEL
B24: COFINS (geralmente 3,00%) | D24: 0.03
B25: ISS (legislação municipal) | D25: 0.05
B26: CPRB (INSS) | D26: 0.045
A27: TAXA TOTAL DE IMPOSTO I | D27: =SUM(D23:D26) -> 0.1315
A29: BDI RESULTANTE | D29: =((1+D20)*(1+D21)*(1+D22)/(1-D27)-1) -> 0.29002571 | F29: 0.25 | G29: 0.3
A31: Fórmula para o cálculo do B.D.I. ( benefícios e despesas indiretas )
A32: BDI = ((1+AC+S+R+G)(1+DF)(1+L)/(1-I))-1
